BEGIN:VCALENDAR
PRODID:-//Feedo Feed//NONSGML v1.0//EN
VERSION:2.0
CALSCALE:GREGORIAN
METHOD:PUBLISH
X-WR-CALNAME:Vortrag Ökologische Bedeutung von Pflanzenkohle
X-WR-CALDESC:Pflanzen- und Synthesekohle sorgt nicht nur für fruchtbare Böden, sondern bindet auch Kohlenstoff und senkt somit den CO₂-Gehalt in der Luft nachhaltig. Mittlerweile gibt es viele sinnvolle Einsatzmöglichkeiten, beispielsweise zur Bodenverbesserung, Biogas-Prozessoptimierung, Tiergesundheit oder zur CO2-Fixierung in Baustoffen und im Straßenbau.    \nMark Füger beschäftigt sich seit Jahren mit dem Einsatz von Pflanzenkohle im Gartenbau und der Baubranche.\nNach seinem Vortrag steht er für Fragen und einen Meinungsaustausch zur Verfügung
X-MS-OLK-FORCEINSPECTOROPEN:TRUE
BEGIN:VEVENT
DTSTAMP:20260421T105558Z
DTSTART:20260115T193000Z
DTEND:20260115T193000Z
TRANSP:TRANSPARENT
UID:662026-01-15
SUMMARY:Vortrag Ökologische Bedeutung von Pflanzenkohle
DESCRIPTION:Pflanzen- und Synthesekohle sorgt nicht nur für fruchtbare Böden, sondern bindet auch Kohlenstoff und senkt somit den CO₂-Gehalt in der Luft nachhaltig. Mittlerweile gibt es viele sinnvolle Einsatzmöglichkeiten, beispielsweise zur Bodenverbesserung, Biogas-Prozessoptimierung, Tiergesundheit oder zur CO2-Fixierung in Baustoffen und im Straßenbau.    \nMark Füger beschäftigt sich seit Jahren mit dem Einsatz von Pflanzenkohle im Gartenbau und der Baubranche.\nNach seinem Vortrag steht er für Fragen und einen Meinungsaustausch zur Verfügung
URL:http://www.netz-pfrondorf.de/index.php/component/ohanah/vortrag-oekologische-bedeutung-von-pflanzenkohle?format=html&amp;Itemid=
CATEGORIES:Ökologie
GEO:48.5485688;9.11022909999997
LOCATION:Stadtteiltreff Pfrondorf
END:VEVENT
END:VCALENDAR