BEGIN:VCALENDAR
PRODID:-//Feedo Feed//NONSGML v1.0//EN
VERSION:2.0
CALSCALE:GREGORIAN
METHOD:PUBLISH
X-WR-CALNAME:Vorstellung  NeMo - Das E Lastenrad für Pfrondorf
X-WR-CALDESC:Vorstellung   NeMo - Das E Lastenrad für Pfrondorf\nSchauen - Informieren - Probefahren\nSamstag, 07. Oktober 2023\n10:30 – 12:30 h vor dem Dorfladen Pfrondorf\nUnser Verein „Das NETZ e.V.“ aus Tübingen – Pfrondorf setzt sich u.a.  für die Förderung des Klimaschutzes und für eine nachhaltige Mobilität ein. Wir wollen daher für unser Dorf, aber auch für Tübingen insgesamt, mit unserem Projekt „NeMo  Dein E-Lastenrad für Pfrondorf“ eine Alternative zum Auto anbieten.\nWir haben daher unter anderem mit dem Preisgeld des SWT Umweltpreises 2022 und weiteren Spenden das E-Lastenrad BABBOE Curve Mountain erworben und wollen es als „NeMo“ (NETZMobil) allen volljährigen Personen zur Verfügung stellen.\nDie Nutzung von „NeMo“ ist kostenlos. Auch deshalb bitten wir alle Nutzer, so sorgsam wie möglich mit „NeMo“ umzugehen, damit es so lange und so vielen Menschen wie möglich zur Verfügung steht.\nDiese kostenfreie Nutzung ist in der Stadt Tübingen einmalig.\nWelches Rad wir warum ausgewählt haben, wie die Registrierung funktioniert, wie die Ausleihe praktisch gehandhabt wird und welche Regeln zu beachten sind erklären wir bei dem Termin. Und NeMo darf Probegefahren werden.  \nDie Anschaffung wurde vom Land Baden-Württemberg im Rahmen der Landesinitiative „Elektrolastenräder für den gewerblichen gemeinnützigen, gemeinschaftlichen oder kommunalen Einsatz“ durch einen 25%igen Zuschuss gefördert, wofür wir uns recht herzlich bedanken.
X-MS-OLK-FORCEINSPECTOROPEN:TRUE
BEGIN:VEVENT
DTSTAMP:20260419T113309Z
DTSTART:20231007T103000Z
DTEND:20231007T103000Z
TRANSP:TRANSPARENT
UID:472023-10-07
SUMMARY:Vorstellung  NeMo - Das E Lastenrad für Pfrondorf
DESCRIPTION:Vorstellung   NeMo - Das E Lastenrad für Pfrondorf\nSchauen - Informieren - Probefahren\nSamstag, 07. Oktober 2023\n10:30 – 12:30 h vor dem Dorfladen Pfrondorf\nUnser Verein „Das NETZ e.V.“ aus Tübingen – Pfrondorf setzt sich u.a.  für die Förderung des Klimaschutzes und für eine nachhaltige Mobilität ein. Wir wollen daher für unser Dorf, aber auch für Tübingen insgesamt, mit unserem Projekt „NeMo  Dein E-Lastenrad für Pfrondorf“ eine Alternative zum Auto anbieten.\nWir haben daher unter anderem mit dem Preisgeld des SWT Umweltpreises 2022 und weiteren Spenden das E-Lastenrad BABBOE Curve Mountain erworben und wollen es als „NeMo“ (NETZMobil) allen volljährigen Personen zur Verfügung stellen.\nDie Nutzung von „NeMo“ ist kostenlos. Auch deshalb bitten wir alle Nutzer, so sorgsam wie möglich mit „NeMo“ umzugehen, damit es so lange und so vielen Menschen wie möglich zur Verfügung steht.\nDiese kostenfreie Nutzung ist in der Stadt Tübingen einmalig.\nWelches Rad wir warum ausgewählt haben, wie die Registrierung funktioniert, wie die Ausleihe praktisch gehandhabt wird und welche Regeln zu beachten sind erklären wir bei dem Termin. Und NeMo darf Probegefahren werden.  \nDie Anschaffung wurde vom Land Baden-Württemberg im Rahmen der Landesinitiative „Elektrolastenräder für den gewerblichen gemeinnützigen, gemeinschaftlichen oder kommunalen Einsatz“ durch einen 25%igen Zuschuss gefördert, wofür wir uns recht herzlich bedanken.
URL:http://www.netz-pfrondorf.de/index.php/component/ohanah/vorstellung-nemo-das-e-lastenrad-fuer-pfrondorf?format=html&amp;Itemid=
CATEGORIES:Gesamtverein
GEO:
LOCATION:Dorfladen Pfrondorf
END:VEVENT
END:VCALENDAR