BEGIN:VCALENDAR
PRODID:-//Feedo Feed//NONSGML v1.0//EN
VERSION:2.0
CALSCALE:GREGORIAN
METHOD:PUBLISH
X-WR-CALNAME:Theater unterwegs - Aufbrechen. Die Landpomeranze und der Harfenmann
X-WR-CALDESC:Dietlinde Ellsässer und Hans Förster starten auch dieses Jahr wieder wie in alten Zeiten mit dem Traktor samt Zirkuswagen und reisen über die Dörfer. Die Fahrt geht von der Schwäbischen Alb hinunter ins Neckartal.\nImmer wieder neu „Aufbrechen“ ist die Devise. Es gibt Kabarett, Harfenmusik, Poetisches und Heiteres für´s Gemüt. Es erwartet Sie ein abwechslungsreiches kabarettistisch-musikalisches Programm.\nDietlinde Ellsässer erzählt aus ihrem Leben und präsentiert mit knitzem Humor und wunderfitzigem Blick die „Meedala“ und den Eigensinn der „Hiesigen“. Hans Förster umrahmt das Geschehen auf der Konzertharfe mit Musik aus der heutigen Zeit.  Ein wenig Klassik, eine Prise Folk sowie eine Messerspitze Pop und Rock sorgen für unterhaltsame, aber auch überraschende Momente.\nEs müssen keine Eintrittskarten gekauft werden. Ein Hut geht herum „hennadrei“.              Einfach eine Sitzgelegenheit mitbringen und wer will ein Vesper.\nAm Mittwoch, 15.06.2022 um 19:00 Uhr auf dem Dorfplatz in Pfrondorf. \nEs beginnt pünktlich, Dauer ca. 90 Minuten\nGespielt wird nur bei schönem Wetter.
X-MS-OLK-FORCEINSPECTOROPEN:TRUE
BEGIN:VEVENT
DTSTAMP:20260421T105401Z
DTSTART:20220615T190000Z
DTEND:20220615T190000Z
TRANSP:TRANSPARENT
UID:392022-06-15
SUMMARY:Theater unterwegs - Aufbrechen. Die Landpomeranze und der Harfenmann
DESCRIPTION:Dietlinde Ellsässer und Hans Förster starten auch dieses Jahr wieder wie in alten Zeiten mit dem Traktor samt Zirkuswagen und reisen über die Dörfer. Die Fahrt geht von der Schwäbischen Alb hinunter ins Neckartal.\nImmer wieder neu „Aufbrechen“ ist die Devise. Es gibt Kabarett, Harfenmusik, Poetisches und Heiteres für´s Gemüt. Es erwartet Sie ein abwechslungsreiches kabarettistisch-musikalisches Programm.\nDietlinde Ellsässer erzählt aus ihrem Leben und präsentiert mit knitzem Humor und wunderfitzigem Blick die „Meedala“ und den Eigensinn der „Hiesigen“. Hans Förster umrahmt das Geschehen auf der Konzertharfe mit Musik aus der heutigen Zeit.  Ein wenig Klassik, eine Prise Folk sowie eine Messerspitze Pop und Rock sorgen für unterhaltsame, aber auch überraschende Momente.\nEs müssen keine Eintrittskarten gekauft werden. Ein Hut geht herum „hennadrei“.              Einfach eine Sitzgelegenheit mitbringen und wer will ein Vesper.\nAm Mittwoch, 15.06.2022 um 19:00 Uhr auf dem Dorfplatz in Pfrondorf. \nEs beginnt pünktlich, Dauer ca. 90 Minuten\nGespielt wird nur bei schönem Wetter.
URL:http://www.netz-pfrondorf.de/index.php/component/ohanah/theater-unterwegs-aufbrechen-die-landpomeranze-und-der-harfenmann?format=html&amp;Itemid=
CATEGORIES:Kultur
GEO:48.5478317;9.110352299999931
LOCATION:Dorfplatz Pfrondorf
END:VEVENT
END:VCALENDAR