BEGIN:VCALENDAR
PRODID:-//Feedo Feed//NONSGML v1.0//EN
VERSION:2.0
CALSCALE:GREGORIAN
METHOD:PUBLISH
X-WR-CALNAME:Theater Lindenhof - HALLO NACHBAR!
X-WR-CALDESC:Ein Blick über den Gartenzaun mit viel Musik                                                               „Es kann der Frömmste nicht in Frieden leben / Wenn es dem bösen Nachbar nicht gefällt“ sprach schon Wilhelm Tell in Schillers Drama. Nachbarstreitigkeiten bilden den Boden für bodenlose Dramen. Und so springt ein Schauspieler-Quartett auf diese wundervolle Spielwiese und öffnet die Bühne für die Krittler, Streithansel und Gartenzwerge. Sie wagen sich mitten hinein in die Welt der Heckenscheren und hitzigen Zaungespräche, der Sonnenanbeter und Sichtbarrieren, der Feierabendbiere und Hasstiraden, denn: Irgendwer mäht immer irgendwo! Nein, Ruhezeiten werden nicht eingehalten, sondern es wird musiziert und gesungen auf „Nachbar komm raus!“. Ausgerüstet mit Klavier, Gitarre, Saxofon, Trompete, Klarinette, Akkordeon und vielen Ukulelen schmettern die vier Akteure das Lied von der Niedertracht, reißen sich los von der Lindenstraße, um auf den Mond zu reisen, bis endlich alle wieder auf dem eigentlich wunderbaren Planet Erde landen um festzustellen: Gute Nachbarschaft sollte hier und jetzt gelingen, denn sie ist auch eine Frage des Überlebens der Menschheit.                                            Konzept: Heiner Kondschak u. Ensemble, Inszenierung: Heiner Kondschak\nEinlass ist um 19:00 Uhr, Getränke und Vesper, freie Platzwahl\nKarten über RESERVIX \nHallo Nachbar - Theater Lindenhof Sa. 16.11.2024 um 20:00 Uhr Tickets, Schönbuchhalle, 72074 Tübingen - Karten online bestellen - Reservix - dein Ticketportal
X-MS-OLK-FORCEINSPECTOROPEN:TRUE
BEGIN:VEVENT
DTSTAMP:20260421T104858Z
DTSTART:20241116T200000Z
DTEND:20241116T200000Z
TRANSP:TRANSPARENT
UID:522024-11-16
SUMMARY:Theater Lindenhof - HALLO NACHBAR!
DESCRIPTION:Ein Blick über den Gartenzaun mit viel Musik                                                               „Es kann der Frömmste nicht in Frieden leben / Wenn es dem bösen Nachbar nicht gefällt“ sprach schon Wilhelm Tell in Schillers Drama. Nachbarstreitigkeiten bilden den Boden für bodenlose Dramen. Und so springt ein Schauspieler-Quartett auf diese wundervolle Spielwiese und öffnet die Bühne für die Krittler, Streithansel und Gartenzwerge. Sie wagen sich mitten hinein in die Welt der Heckenscheren und hitzigen Zaungespräche, der Sonnenanbeter und Sichtbarrieren, der Feierabendbiere und Hasstiraden, denn: Irgendwer mäht immer irgendwo! Nein, Ruhezeiten werden nicht eingehalten, sondern es wird musiziert und gesungen auf „Nachbar komm raus!“. Ausgerüstet mit Klavier, Gitarre, Saxofon, Trompete, Klarinette, Akkordeon und vielen Ukulelen schmettern die vier Akteure das Lied von der Niedertracht, reißen sich los von der Lindenstraße, um auf den Mond zu reisen, bis endlich alle wieder auf dem eigentlich wunderbaren Planet Erde landen um festzustellen: Gute Nachbarschaft sollte hier und jetzt gelingen, denn sie ist auch eine Frage des Überlebens der Menschheit.                                            Konzept: Heiner Kondschak u. Ensemble, Inszenierung: Heiner Kondschak\nEinlass ist um 19:00 Uhr, Getränke und Vesper, freie Platzwahl\nKarten über RESERVIX \nHallo Nachbar - Theater Lindenhof Sa. 16.11.2024 um 20:00 Uhr Tickets, Schönbuchhalle, 72074 Tübingen - Karten online bestellen - Reservix - dein Ticketportal
URL:http://www.netz-pfrondorf.de/index.php/component/ohanah/theater-lindenhof-hallo-nachbar?format=html&amp;Itemid=
CATEGORIES:Kultur
GEO:
LOCATION:Schönbuchhalle Tübingen - Pfrondorf
END:VEVENT
END:VCALENDAR