BEGIN:VCALENDAR
PRODID:-//Feedo Feed//NONSGML v1.0//EN
VERSION:2.0
CALSCALE:GREGORIAN
METHOD:PUBLISH
X-WR-CALNAME:Paul Westrich: Von Baumeistern, Blumenschläfern und Pollensammlern
X-WR-CALDESC:Dr. Paul Westrich hält seinen Vortrag unter dem Titel \nVon Baumeistern, Blumenschläfern und Pollensammlern -\nEine Reise in die faszinierende Welt der Wildbienen\nMit brillanten Farbfotos und beeindruckenden Filmsequenzen präsentiert Dr. Paul Westrich, Wildbienenexperte und Buchautor, die faszinierende Vielfalt der Lebensweisen unserer Wildbienen.\nLassen auch Sie sich durch einzigartige Einblicke und praxisnahe Empfehlungen für den Schutz dieser vielfach bedrohten Bestäuber unserer Wild- und Nutzpflanzen begeistern!\nVeranstalter sind Das NETZ und die Evangelische Kirchengemeinde Pfrondorf\nDer Eintritt ist frei, Spenden sind willkommen. \nEs gilt derzeit noch als Corona Vorgaben: 3G und FFP2-Maskenpflicht. Bitte Nachweis mitbringen!\n 
X-MS-OLK-FORCEINSPECTOROPEN:TRUE
BEGIN:VEVENT
DTSTAMP:20260421T105636Z
DTSTART:20220325T200000Z
DTEND:20220325T200000Z
TRANSP:TRANSPARENT
UID:382022-03-25
SUMMARY:Paul Westrich: Von Baumeistern, Blumenschläfern und Pollensammlern
DESCRIPTION:Dr. Paul Westrich hält seinen Vortrag unter dem Titel \nVon Baumeistern, Blumenschläfern und Pollensammlern -\nEine Reise in die faszinierende Welt der Wildbienen\nMit brillanten Farbfotos und beeindruckenden Filmsequenzen präsentiert Dr. Paul Westrich, Wildbienenexperte und Buchautor, die faszinierende Vielfalt der Lebensweisen unserer Wildbienen.\nLassen auch Sie sich durch einzigartige Einblicke und praxisnahe Empfehlungen für den Schutz dieser vielfach bedrohten Bestäuber unserer Wild- und Nutzpflanzen begeistern!\nVeranstalter sind Das NETZ und die Evangelische Kirchengemeinde Pfrondorf\nDer Eintritt ist frei, Spenden sind willkommen. \nEs gilt derzeit noch als Corona Vorgaben: 3G und FFP2-Maskenpflicht. Bitte Nachweis mitbringen!\n 
URL:http://www.netz-pfrondorf.de/index.php/component/ohanah/paul-westrich-von-baumeistern-blumenschlaefern-und-pollensammlern?format=html&amp;Itemid=
CATEGORIES:Gesamtverein
GEO:48.5490559;9.109442299999955
LOCATION:Evangelische Kirche Pfrondorf
END:VEVENT
END:VCALENDAR