BEGIN:VCALENDAR
PRODID:-//Feedo Feed//NONSGML v1.0//EN
VERSION:2.0
CALSCALE:GREGORIAN
METHOD:PUBLISH
X-WR-CALNAME:Clownstheater und Musik 
X-WR-CALDESC:Die beiden Clowns Paolo und Tiger kämpfen mit den Widrigkeiten des Lebens.\nIn kleinen Szenen – mal Solo mal im Duett – stehen sie vor Konflikten und Gegebenheiten, in denen wir uns wiederfinden können, begleitet mit einem Schmunzeln oder Lachen.\nChristine Schäfer und Frank Suppanz spielen Irish Folk auf Blockflöten und Gitarre: temperamentvoll, zart, melancholisch, virtuos …\nKarten für 15,00 € gibt es ab 21. Oktober 2025 nur im Dorfladen Pfrondorf und an der Abendkasse\n 
X-MS-OLK-FORCEINSPECTOROPEN:TRUE
BEGIN:VEVENT
DTSTAMP:20260421T104740Z
DTSTART:20251108T200000Z
DTEND:20251108T200000Z
TRANSP:TRANSPARENT
UID:612025-11-08
SUMMARY:Clownstheater und Musik 
DESCRIPTION:Die beiden Clowns Paolo und Tiger kämpfen mit den Widrigkeiten des Lebens.\nIn kleinen Szenen – mal Solo mal im Duett – stehen sie vor Konflikten und Gegebenheiten, in denen wir uns wiederfinden können, begleitet mit einem Schmunzeln oder Lachen.\nChristine Schäfer und Frank Suppanz spielen Irish Folk auf Blockflöten und Gitarre: temperamentvoll, zart, melancholisch, virtuos …\nKarten für 15,00 € gibt es ab 21. Oktober 2025 nur im Dorfladen Pfrondorf und an der Abendkasse\n 
URL:http://www.netz-pfrondorf.de/index.php/component/ohanah/clownstheater-und-musik?format=html&amp;Itemid=
CATEGORIES:Kultur
GEO:48.5486356;9.1105139
LOCATION:Musikzentrum Pfrondorf
END:VEVENT
END:VCALENDAR