BEGIN:VCALENDAR
PRODID:-//Feedo Feed//NONSGML v1.0//EN
VERSION:2.0
CALSCALE:GREGORIAN
METHOD:PUBLISH
X-WR-CALNAME:1. Pfrondorfer Pflanzen- und Samentauschbörse
X-WR-CALDESC:Wegen der aktuellen Corona Virus Situation muss die Veranstaltung leider abgesagt werden. \n 
X-MS-OLK-FORCEINSPECTOROPEN:TRUE
BEGIN:VEVENT
DTSTAMP:20260421T105123Z
DTSTART:20200404T100000Z
DTEND:20200404T100000Z
TRANSP:TRANSPARENT
UID:362020-04-04
SUMMARY:1. Pfrondorfer Pflanzen- und Samentauschbörse
DESCRIPTION:Wegen der aktuellen Corona Virus Situation muss die Veranstaltung leider abgesagt werden. \n 
URL:http://www.netz-pfrondorf.de/index.php/component/ohanah/1-pfrondorfer-pflanzen-und-samentauschboerse?format=html&amp;Itemid=
CATEGORIES:Ökologie
GEO:48.5478317;9.110352299999931
LOCATION:Dorfplatz Pfrondorf
END:VEVENT
END:VCALENDAR